BEGIN:VCALENDAR
VERSION:2.0
PRODID:-//kyohatsu//JP
CALSCALE:GREGORIAN
BEGIN:VEVENT
DTSTART;VALUE=DATE:20260612
SUMMARY:すれ違いの告白
DESCRIPTION:ダイアナ・パーマー/仁嶋いずる ハーパーコリンズ・ジャパン
UID:9784302121649@kyohatsu.lb-product.com
END:VEVENT
END:VCALENDAR
