BEGIN:VCALENDAR
VERSION:2.0
PRODID:-//kyohatsu//JP
CALSCALE:GREGORIAN
BEGIN:VEVENT
DTSTART;VALUE=DATE:20260612
SUMMARY:放蕩貴族と灰かぶりのレディ
DESCRIPTION:ニコラ・コーニック/さとう史緒 ハーパーコリンズ・ジャパン
UID:9784302121977@kyohatsu.lb-product.com
END:VEVENT
END:VCALENDAR
