BEGIN:VCALENDAR
VERSION:2.0
PRODID:-//kyohatsu//JP
CALSCALE:GREGORIAN
BEGIN:VEVENT
DTSTART;VALUE=DATE:20260515
SUMMARY:不機嫌な隣人
DESCRIPTION:ノーラ・ロバーツ/平江まゆみ ハーパーコリンズ・ジャパン
UID:9784302119721@kyohatsu.lb-product.com
END:VEVENT
END:VCALENDAR
