BEGIN:VCALENDAR
VERSION:2.0
PRODID:-//kyohatsu//JP
CALSCALE:GREGORIAN
BEGIN:VEVENT
DTSTART;VALUE=DATE:20260515
SUMMARY:花と魔法と深煎りコーヒー
DESCRIPTION:A・T・クレーシー/矢沢聖子 ハーパーコリンズ・ジャパン
UID:9784302118564@kyohatsu.lb-product.com
END:VEVENT
END:VCALENDAR
