BEGIN:VCALENDAR
VERSION:2.0
PRODID:-//kyohatsu//JP
CALSCALE:GREGORIAN
BEGIN:VEVENT
DTSTART;VALUE=DATE:20260605
SUMMARY:夜明けの唄　7
DESCRIPTION:ユノイチカ シュークリーム
UID:9784868460190@kyohatsu.lb-product.com
END:VEVENT
END:VCALENDAR
