BEGIN:VCALENDAR
VERSION:2.0
PRODID:-//kyohatsu//JP
CALSCALE:GREGORIAN
BEGIN:VEVENT
DTSTART;VALUE=DATE:20260525
SUMMARY:おまえの吐息を奪っていった
DESCRIPTION:早寝 電灯 ホーム社
UID:9784834265750@kyohatsu.lb-product.com
END:VEVENT
BEGIN:VEVENT
DTSTART;VALUE=DATE:20260525
SUMMARY:落ちた林檎は恋を知る
DESCRIPTION:ぴみちゃん ホーム社
UID:9784834265767@kyohatsu.lb-product.com
END:VEVENT
END:VCALENDAR
