BEGIN:VCALENDAR
VERSION:2.0
PRODID:-//kyohatsu//JP
CALSCALE:GREGORIAN
BEGIN:VEVENT
DTSTART;VALUE=DATE:20260701
SUMMARY:本好きの下剋上　第三部　領主の養女9
DESCRIPTION:香月美夜 TOブックス
UID:9784868540366@kyohatsu.lb-product.com
END:VEVENT
END:VCALENDAR
