BEGIN:VCALENDAR
VERSION:2.0
PRODID:-//kyohatsu//JP
CALSCALE:GREGORIAN
BEGIN:VEVENT
DTSTART;VALUE=DATE:20260522
SUMMARY:ムーンライズ
DESCRIPTION:サラ・クロッサン/三辺 律子 岩波書店
UID:9784001164350@kyohatsu.lb-product.com
END:VEVENT
END:VCALENDAR
