BEGIN:VCALENDAR
VERSION:2.0
PRODID:-//kyohatsu//JP
CALSCALE:GREGORIAN
BEGIN:VEVENT
DTSTART;VALUE=DATE:20260526
SUMMARY:いちごゆ
DESCRIPTION:雨宮 尚子 PHP研究所
UID:9784569882697@kyohatsu.lb-product.com
END:VEVENT
END:VCALENDAR
