BEGIN:VCALENDAR
VERSION:2.0
PRODID:-//kyohatsu//JP
CALSCALE:GREGORIAN
BEGIN:VEVENT
DTSTART;VALUE=DATE:20260626
SUMMARY:古都古書祓いの陰陽師　2
DESCRIPTION:YUNOKI/ウカラ・ガウ KADOKAWA
UID:9784046603005@kyohatsu.lb-product.com
END:VEVENT
END:VCALENDAR
