BEGIN:VCALENDAR
VERSION:2.0
PRODID:-//kyohatsu//JP
CALSCALE:GREGORIAN
BEGIN:VEVENT
DTSTART;VALUE=DATE:20260525
SUMMARY:南洋に向かう女性作家
DESCRIPTION:張　雅 勁草書房
UID:9784326800674@kyohatsu.lb-product.com
END:VEVENT
END:VCALENDAR
