BEGIN:VCALENDAR
VERSION:2.0
PRODID:-//kyohatsu//JP
CALSCALE:GREGORIAN
BEGIN:VEVENT
DTSTART;VALUE=DATE:20260525
SUMMARY:断固として婚約辞退はいたしません1
DESCRIPTION:一之瀬絢/春時雨よわ 大都社
UID:9784864958066@kyohatsu.lb-product.com
END:VEVENT
END:VCALENDAR
