BEGIN:VCALENDAR
VERSION:2.0
PRODID:-//kyohatsu//JP
CALSCALE:GREGORIAN
BEGIN:VEVENT
DTSTART;VALUE=DATE:20260525
SUMMARY:怪談師・志月かなでの宵闇話 幽霊画
DESCRIPTION:志月かなで/油豆 大都社
UID:9784864958080@kyohatsu.lb-product.com
END:VEVENT
END:VCALENDAR
