BEGIN:VCALENDAR
VERSION:2.0
PRODID:-//kyohatsu//JP
CALSCALE:GREGORIAN
BEGIN:VEVENT
DTSTART;VALUE=DATE:20260625
SUMMARY:9年目の伏線回収
DESCRIPTION:丸山ハシシ 徳間書店
UID:9784199610875@kyohatsu.lb-product.com
END:VEVENT
BEGIN:VEVENT
DTSTART;VALUE=DATE:20260625
SUMMARY:犬なら喋るな跪け
DESCRIPTION:有木映子 徳間書店
UID:9784199610844@kyohatsu.lb-product.com
END:VEVENT
BEGIN:VEVENT
DTSTART;VALUE=DATE:20260625
SUMMARY:お隣男子が弟ポジの一線を越えてくる
DESCRIPTION:本田ミル 徳間書店
UID:9784199610868@kyohatsu.lb-product.com
END:VEVENT
BEGIN:VEVENT
DTSTART;VALUE=DATE:20260625
SUMMARY:異世界の脳筋領主と愛玩生活
DESCRIPTION:ko 徳間書店
UID:9784199610851@kyohatsu.lb-product.com
END:VEVENT
END:VCALENDAR
