BEGIN:VCALENDAR
VERSION:2.0
PRODID:-//kyohatsu//JP
CALSCALE:GREGORIAN
BEGIN:VEVENT
DTSTART;VALUE=DATE:20260701
SUMMARY:望み通り、捨てられましょう（1）
DESCRIPTION:江東しろ TOブックス
UID:9784868540502@kyohatsu.lb-product.com
END:VEVENT
BEGIN:VEVENT
DTSTART;VALUE=DATE:20260701
SUMMARY:二度と聖女は致しません2
DESCRIPTION:天冨七緒 TOブックス
UID:9784868540472@kyohatsu.lb-product.com
END:VEVENT
BEGIN:VEVENT
DTSTART;VALUE=DATE:20260701
SUMMARY:月影に沈む覇道の行き先2〜養父と養女の辺境改革〜
DESCRIPTION:空桜歌 TOブックス
UID:9784868540465@kyohatsu.lb-product.com
END:VEVENT
BEGIN:VEVENT
DTSTART;VALUE=DATE:20260701
SUMMARY:愛なんかいらない。幸せになれなくてもいい。〜お母様、悪いけど私の為に悪者になって〜2
DESCRIPTION:天冨七緒 TOブックス
UID:9784868540489@kyohatsu.lb-product.com
END:VEVENT
END:VCALENDAR
