BEGIN:VCALENDAR
VERSION:2.0
PRODID:-//kyohatsu//JP
CALSCALE:GREGORIAN
BEGIN:VEVENT
DTSTART;VALUE=DATE:20260520
SUMMARY:アンソロジー（仮）
DESCRIPTION:隠木鶉、さこたいこ、中原涼、文月あお/510 スターツ出版
UID:9784813719328@kyohatsu.lb-product.com
END:VEVENT
BEGIN:VEVENT
DTSTART;VALUE=DATE:20260520
SUMMARY:嫌われている後輩と同室になりました(仮）
DESCRIPTION:椿ゆず/転はくと スターツ出版
UID:9784813719311@kyohatsu.lb-product.com
END:VEVENT
END:VCALENDAR
