BEGIN:VCALENDAR
VERSION:2.0
PRODID:-//kyohatsu//JP
CALSCALE:GREGORIAN
BEGIN:VEVENT
DTSTART;VALUE=DATE:20260605
SUMMARY:追放されたの、全員今日でした。〜相席から始まった仮パーティーが噛み合いすぎて、復帰要請はお断りします〜
DESCRIPTION:ねたらまんでー/ふつー ぶんか社
UID:9784821147069@kyohatsu.lb-product.com
END:VEVENT
END:VCALENDAR
