BEGIN:VCALENDAR
VERSION:2.0
PRODID:-//kyohatsu//JP
CALSCALE:GREGORIAN
BEGIN:VEVENT
DTSTART;VALUE=DATE:20260526
SUMMARY:棄郷ノート　増補版
DESCRIPTION:姜信子 インスクリプト
UID:9784867840122@kyohatsu.lb-product.com
END:VEVENT
END:VCALENDAR
