BEGIN:VCALENDAR
VERSION:2.0
PRODID:-//kyohatsu//JP
CALSCALE:GREGORIAN
BEGIN:VEVENT
DTSTART;VALUE=DATE:20260529
SUMMARY:あまねく甘く魔 succubus awakening 2
DESCRIPTION:がるまにオリジナル（乙女）/さくら蒼/足軽足 viviON
UID:9784910803982@kyohatsu.lb-product.com
END:VEVENT
END:VCALENDAR
