BEGIN:VCALENDAR
VERSION:2.0
PRODID:-//kyohatsu//JP
CALSCALE:GREGORIAN
BEGIN:VEVENT
DTSTART;VALUE=DATE:20260527
SUMMARY:動物探偵ミア　ぴよぴよパニック！
DESCRIPTION:ダイアナ・キンプトン/武富　博子/花珠 ポプラ社
UID:9784591189818@kyohatsu.lb-product.com
END:VEVENT
END:VCALENDAR
