BEGIN:VCALENDAR
VERSION:2.0
PRODID:-//kyohatsu//JP
CALSCALE:GREGORIAN
BEGIN:VEVENT
DTSTART;VALUE=DATE:20260512
SUMMARY:心が雨漏りする日には【新装版】
DESCRIPTION:中島らも 青春出版社
UID:9784413298995@kyohatsu.lb-product.com
END:VEVENT
END:VCALENDAR
