BEGIN:VCALENDAR
VERSION:2.0
PRODID:-//kyohatsu//JP
CALSCALE:GREGORIAN
BEGIN:VEVENT
DTSTART;VALUE=DATE:20260626
SUMMARY:魔族を仕込んでハーレム作る1
DESCRIPTION:アルデヒド KADOKAWA
UID:9784049522853@kyohatsu.lb-product.com
END:VEVENT
END:VCALENDAR
