BEGIN:VCALENDAR
VERSION:2.0
PRODID:-//kyohatsu//JP
CALSCALE:GREGORIAN
BEGIN:VEVENT
DTSTART;VALUE=DATE:20260521
SUMMARY:戦国 茶室のミサ
DESCRIPTION:辻井 南青紀 集英社
UID:9784087430028@kyohatsu.lb-product.com
END:VEVENT
BEGIN:VEVENT
DTSTART;VALUE=DATE:20260521
SUMMARY:暗夜鬼譚 細雪剣舞/凶剣凍夜
DESCRIPTION:瀬川 貴次 集英社
UID:9784087430011@kyohatsu.lb-product.com
END:VEVENT
BEGIN:VEVENT
DTSTART;VALUE=DATE:20260521
SUMMARY:父ではありませんが 第三者として考える
DESCRIPTION:武田 砂鉄 集英社
UID:9784087448962@kyohatsu.lb-product.com
END:VEVENT
BEGIN:VEVENT
DTSTART;VALUE=DATE:20260521
SUMMARY:奇跡の食卓
DESCRIPTION:三宮 麻由子 集英社
UID:9784087448986@kyohatsu.lb-product.com
END:VEVENT
BEGIN:VEVENT
DTSTART;VALUE=DATE:20260521
SUMMARY:内定をください オカンと息子の崖っぷち就活
DESCRIPTION:保坂 祐希 集英社
UID:9784087448993@kyohatsu.lb-product.com
END:VEVENT
BEGIN:VEVENT
DTSTART;VALUE=DATE:20260521
SUMMARY:いい子のあくび
DESCRIPTION:高瀬 隼子 集英社
UID:9784087448924@kyohatsu.lb-product.com
END:VEVENT
BEGIN:VEVENT
DTSTART;VALUE=DATE:20260521
SUMMARY:いつか君が運命の人 1
DESCRIPTION:宇山 佳佑 集英社
UID:9784087448900@kyohatsu.lb-product.com
END:VEVENT
BEGIN:VEVENT
DTSTART;VALUE=DATE:20260521
SUMMARY:いつか君が運命の人 2
DESCRIPTION:宇山 佳佑 集英社
UID:9784087448917@kyohatsu.lb-product.com
END:VEVENT
BEGIN:VEVENT
DTSTART;VALUE=DATE:20260521
SUMMARY:とりあえずウミガメのスープを仕込もう。
DESCRIPTION:宮下 奈都 集英社
UID:9784087448931@kyohatsu.lb-product.com
END:VEVENT
BEGIN:VEVENT
DTSTART;VALUE=DATE:20260521
SUMMARY:プレデター
DESCRIPTION:あさの あつこ 集英社
UID:9784087448955@kyohatsu.lb-product.com
END:VEVENT
BEGIN:VEVENT
DTSTART;VALUE=DATE:20260521
SUMMARY:2.43 清陰高校男子バレー部 next 4years 1
DESCRIPTION:壁井 ユカコ 集英社
UID:9784087448948@kyohatsu.lb-product.com
END:VEVENT
END:VCALENDAR
