BEGIN:VCALENDAR
VERSION:2.0
PRODID:-//kyohatsu//JP
CALSCALE:GREGORIAN
BEGIN:VEVENT
DTSTART;VALUE=DATE:20260529
SUMMARY:秋本治のナイス！なチョイス こち亀 50周年!! 6月
DESCRIPTION:秋本 治 集英社
UID:9784081153039@kyohatsu.lb-product.com
END:VEVENT
END:VCALENDAR
