BEGIN:VCALENDAR
VERSION:2.0
PRODID:-//kyohatsu//JP
CALSCALE:GREGORIAN
BEGIN:VEVENT
DTSTART;VALUE=DATE:20260618
SUMMARY:グランニューデイズ 2
DESCRIPTION:saku ホーム社
UID:9784834233612@kyohatsu.lb-product.com
END:VEVENT
END:VCALENDAR
