BEGIN:VCALENDAR
VERSION:2.0
PRODID:-//kyohatsu//JP
CALSCALE:GREGORIAN
BEGIN:VEVENT
DTSTART;VALUE=DATE:20260625
SUMMARY:さようならはこちらです 上
DESCRIPTION:阿部 あかね 集英社
UID:9784088552668@kyohatsu.lb-product.com
END:VEVENT
BEGIN:VEVENT
DTSTART;VALUE=DATE:20260625
SUMMARY:さようならはこちらです 下
DESCRIPTION:阿部 あかね 集英社
UID:9784088552675@kyohatsu.lb-product.com
END:VEVENT
BEGIN:VEVENT
DTSTART;VALUE=DATE:20260625
SUMMARY:世界で一番しあわせ！ 1
DESCRIPTION:アルコ/春芳 きざし 集英社
UID:9784088552699@kyohatsu.lb-product.com
END:VEVENT
BEGIN:VEVENT
DTSTART;VALUE=DATE:20260625
SUMMARY:世界で一番しあわせ！ 2
DESCRIPTION:アルコ/春芳 きざし 集英社
UID:9784088552705@kyohatsu.lb-product.com
END:VEVENT
END:VCALENDAR
