BEGIN:VCALENDAR
VERSION:2.0
PRODID:-//kyohatsu//JP
CALSCALE:GREGORIAN
BEGIN:VEVENT
DTSTART;VALUE=DATE:20260603
SUMMARY:バッファロー・ドリーマー
DESCRIPTION:ヴァイオレット・ダンカン/小澤 なつみ/金原 瑞人 作品社
UID:9784867931523@kyohatsu.lb-product.com
END:VEVENT
END:VCALENDAR
