BEGIN:VCALENDAR
VERSION:2.0
PRODID:-//kyohatsu//JP
CALSCALE:GREGORIAN
BEGIN:VEVENT
DTSTART;VALUE=DATE:20260520
SUMMARY:5分後にゾッとする古典文学（仮）
DESCRIPTION:野月よひら スターツ出版
UID:9784813782650@kyohatsu.lb-product.com
END:VEVENT
BEGIN:VEVENT
DTSTART;VALUE=DATE:20260520
SUMMARY:ハンターガールズ！（仮）
DESCRIPTION:岩長咲耶 スターツ出版
UID:9784813782636@kyohatsu.lb-product.com
END:VEVENT
BEGIN:VEVENT
DTSTART;VALUE=DATE:20260520
SUMMARY:あの夏のキミを探して（仮）
DESCRIPTION:汐見 夏衛 スターツ出版
UID:9784813782643@kyohatsu.lb-product.com
END:VEVENT
BEGIN:VEVENT
DTSTART;VALUE=DATE:20260520
SUMMARY:都道府県男子！5（仮）
DESCRIPTION:あさばみゆき スターツ出版
UID:9784813782629@kyohatsu.lb-product.com
END:VEVENT
END:VCALENDAR
