BEGIN:VCALENDAR
VERSION:2.0
PRODID:-//kyohatsu//JP
CALSCALE:GREGORIAN
BEGIN:VEVENT
DTSTART;VALUE=DATE:20260501
SUMMARY:追憶のM　熱狂編（3）
DESCRIPTION:しおざき忍/ZERO 竹書房
UID:9784801949232@kyohatsu.lb-product.com
END:VEVENT
END:VCALENDAR
