BEGIN:VCALENDAR
VERSION:2.0
PRODID:-//kyohatsu//JP
CALSCALE:GREGORIAN
BEGIN:VEVENT
DTSTART;VALUE=DATE:20260430
SUMMARY:ソニック・ザ・ヘッジホッグ　IDWコミックアートコレクション（第1巻）
DESCRIPTION:クリス・サイモン/ショーン・リー/アダム・ブライス・トーマス/ルビー　翔馬　ジェームス フェーズシックス
UID:9784911348406@kyohatsu.lb-product.com
END:VEVENT
END:VCALENDAR
