BEGIN:VCALENDAR
VERSION:2.0
PRODID:-//kyohatsu//JP
CALSCALE:GREGORIAN
BEGIN:VEVENT
DTSTART;VALUE=DATE:20260610
SUMMARY:小説　とんがり帽子のアトリエ（2）
DESCRIPTION:白浜 鴎/吉岡 みつる 講談社
UID:9784065437285@kyohatsu.lb-product.com
END:VEVENT
BEGIN:VEVENT
DTSTART;VALUE=DATE:20260610
SUMMARY:ミュージアム・ゲーム1　〜三種の神器争奪戦！〜
DESCRIPTION:あんのまる/灰色 ルト 講談社
UID:9784065437254@kyohatsu.lb-product.com
END:VEVENT
END:VCALENDAR
