BEGIN:VCALENDAR
VERSION:2.0
PRODID:-//kyohatsu//JP
CALSCALE:GREGORIAN
BEGIN:VEVENT
DTSTART;VALUE=DATE:20260624
SUMMARY:クッキングパパ　冷やしうどん
DESCRIPTION:うえやま とち 講談社
UID:9784065439418@kyohatsu.lb-product.com
END:VEVENT
END:VCALENDAR
