BEGIN:VCALENDAR
VERSION:2.0
PRODID:-//kyohatsu//JP
CALSCALE:GREGORIAN
BEGIN:VEVENT
DTSTART;VALUE=DATE:20260612
SUMMARY:帝室宮殿の見習い女官　恋愛成就と本採用
DESCRIPTION:小田 菜摘 講談社
UID:9784065439319@kyohatsu.lb-product.com
END:VEVENT
END:VCALENDAR
