BEGIN:VCALENDAR
VERSION:2.0
PRODID:-//kyohatsu//JP
CALSCALE:GREGORIAN
BEGIN:VEVENT
DTSTART;VALUE=DATE:20260601
SUMMARY:ヤングマガジン創刊45周年記念　復刻ヤンマガ
DESCRIPTION:ヤングマガジン編集部 講談社
UID:9784065412923@kyohatsu.lb-product.com
END:VEVENT
END:VCALENDAR
