BEGIN:VCALENDAR
VERSION:2.0
PRODID:-//kyohatsu//JP
CALSCALE:GREGORIAN
BEGIN:VEVENT
DTSTART;VALUE=DATE:20260528
SUMMARY:謎ガタリ
DESCRIPTION:山下みゆき/七星 Gakken
UID:9784052063534@kyohatsu.lb-product.com
END:VEVENT
END:VCALENDAR
