BEGIN:VCALENDAR
VERSION:2.0
PRODID:-//kyohatsu//JP
CALSCALE:GREGORIAN
BEGIN:VEVENT
DTSTART;VALUE=DATE:20260603
SUMMARY:上流の一族でも（342）
DESCRIPTION:レックス・スタウト/渕上痩平 論創社
UID:9784846025601@kyohatsu.lb-product.com
END:VEVENT
END:VCALENDAR
