BEGIN:VCALENDAR
VERSION:2.0
PRODID:-//kyohatsu//JP
CALSCALE:GREGORIAN
BEGIN:VEVENT
DTSTART;VALUE=DATE:20260522
SUMMARY:ボールドペイト山荘の七つの鍵（341）
DESCRIPTION:E・D・ビガーズ/赤星美樹 論創社
UID:9784846025618@kyohatsu.lb-product.com
END:VEVENT
END:VCALENDAR
