BEGIN:VCALENDAR
VERSION:2.0
PRODID:-//kyohatsu//JP
CALSCALE:GREGORIAN
BEGIN:VEVENT
DTSTART;VALUE=DATE:20260610
SUMMARY:怪盗レッド（30） 1パーセントの希望があるなら☆の巻
DESCRIPTION:秋木　真/しゅー KADOKAWA
UID:9784046323910@kyohatsu.lb-product.com
END:VEVENT
BEGIN:VEVENT
DTSTART;VALUE=DATE:20260610
SUMMARY:かくしごとっ！ あたしが天才作家の身がわりに!?（1）
DESCRIPTION:深海　ゆずは/tanakamtam KADOKAWA
UID:9784046324115@kyohatsu.lb-product.com
END:VEVENT
END:VCALENDAR
