BEGIN:VCALENDAR
VERSION:2.0
PRODID:-//kyohatsu//JP
CALSCALE:GREGORIAN
BEGIN:VEVENT
DTSTART;VALUE=DATE:20260619
SUMMARY:兎は獣の肚の底でしあわせな夢をみる 2
DESCRIPTION:月永 遠子 白泉社
UID:9784592231325@kyohatsu.lb-product.com
END:VEVENT
END:VCALENDAR
