BEGIN:VCALENDAR
VERSION:2.0
PRODID:-//kyohatsu//JP
CALSCALE:GREGORIAN
BEGIN:VEVENT
DTSTART;VALUE=DATE:20260518
SUMMARY:蜜楽ハーレムハウス＜新装版＞
DESCRIPTION:霧原 一輝 竹書房
UID:9784801949324@kyohatsu.lb-product.com
END:VEVENT
END:VCALENDAR
