BEGIN:VCALENDAR
VERSION:2.0
PRODID:-//kyohatsu//JP
CALSCALE:GREGORIAN
BEGIN:VEVENT
DTSTART;VALUE=DATE:20260529
SUMMARY:ぞくりぞくり　読むと寿命が減る話
DESCRIPTION:平山夢明/黒木あるじ/冨士玉目 竹書房
UID:9784801949423@kyohatsu.lb-product.com
END:VEVENT
END:VCALENDAR
