BEGIN:VCALENDAR
VERSION:2.0
PRODID:-//kyohatsu//JP
CALSCALE:GREGORIAN
BEGIN:VEVENT
DTSTART;VALUE=DATE:20260529
SUMMARY:怖い話を聞かされた
DESCRIPTION:吉田悠軌 竹書房
UID:9784801949409@kyohatsu.lb-product.com
END:VEVENT
END:VCALENDAR
