BEGIN:VCALENDAR
VERSION:2.0
PRODID:-//kyohatsu//JP
CALSCALE:GREGORIAN
BEGIN:VEVENT
DTSTART;VALUE=DATE:20260529
SUMMARY:「弔」怖い話　禁庫開錠
DESCRIPTION:加藤一 竹書房
UID:9784801949386@kyohatsu.lb-product.com
END:VEVENT
END:VCALENDAR
