BEGIN:VCALENDAR
VERSION:2.0
PRODID:-//kyohatsu//JP
CALSCALE:GREGORIAN
BEGIN:VEVENT
DTSTART;VALUE=DATE:20260430
SUMMARY:怪談七変幻　紫紺
DESCRIPTION:黒木あるじ/牛抱せん夏/クダマツヒロシ/多故くらら/のっぺらぼう/花園メアリー 竹書房
UID:9784801949218@kyohatsu.lb-product.com
END:VEVENT
END:VCALENDAR
