BEGIN:VCALENDAR
VERSION:2.0
PRODID:-//kyohatsu//JP
CALSCALE:GREGORIAN
BEGIN:VEVENT
DTSTART;VALUE=DATE:20260430
SUMMARY:狂街怪談
DESCRIPTION:播磨龍次 竹書房
UID:9784801949201@kyohatsu.lb-product.com
END:VEVENT
END:VCALENDAR
