BEGIN:VCALENDAR
VERSION:2.0
PRODID:-//kyohatsu//JP
CALSCALE:GREGORIAN
BEGIN:VEVENT
DTSTART;VALUE=DATE:20260430
SUMMARY:境怪線　ふでもの怪談集
DESCRIPTION:筆者 竹書房
UID:9784801949195@kyohatsu.lb-product.com
END:VEVENT
END:VCALENDAR
