BEGIN:VCALENDAR
VERSION:2.0
PRODID:-//kyohatsu//JP
CALSCALE:GREGORIAN
BEGIN:VEVENT
DTSTART;VALUE=DATE:20260525
SUMMARY:結婚、のち恋愛。（4）
DESCRIPTION:朔也/蘇我空木 秋水社
UID:9784867782378@kyohatsu.lb-product.com
END:VEVENT
END:VCALENDAR
