BEGIN:VCALENDAR
VERSION:2.0
PRODID:-//kyohatsu//JP
CALSCALE:GREGORIAN
BEGIN:VEVENT
DTSTART;VALUE=DATE:20260522
SUMMARY:ブルックリン
DESCRIPTION:コルム・トビーン/栩木　伸明 白水社
UID:9784560072691@kyohatsu.lb-product.com
END:VEVENT
END:VCALENDAR
