BEGIN:VCALENDAR
VERSION:2.0
PRODID:-//kyohatsu//JP
CALSCALE:GREGORIAN
BEGIN:VEVENT
DTSTART;VALUE=DATE:20260526
SUMMARY:真珠の耳飾りの少女［新版］
DESCRIPTION:トレイシー・シュヴァリエ/木下　哲夫 白水社
UID:9784560072813@kyohatsu.lb-product.com
END:VEVENT
END:VCALENDAR
