BEGIN:VCALENDAR
VERSION:2.0
PRODID:-//kyohatsu//JP
CALSCALE:GREGORIAN
BEGIN:VEVENT
DTSTART;VALUE=DATE:20260527
SUMMARY:チボー家の人々［新版］　1　灰色のノート
DESCRIPTION:ロジェ・マルタン・デュ・ガール/山内　義雄/野崎　歓 白水社
UID:9784560072714@kyohatsu.lb-product.com
END:VEVENT
END:VCALENDAR
